BEGIN:VCALENDAR
VERSION:2.0
PRODID:-//Salford Innovation Forum - ECPv6.15.20//NONSGML v1.0//EN
CALSCALE:GREGORIAN
METHOD:PUBLISH
X-WR-CALNAME:Salford Innovation Forum
X-ORIGINAL-URL:https://www.salfordinnovationforum.co.uk
X-WR-CALDESC:Events for Salford Innovation Forum
REFRESH-INTERVAL;VALUE=DURATION:PT1H
X-Robots-Tag:noindex
X-PUBLISHED-TTL:PT1H
BEGIN:VTIMEZONE
TZID:UTC
BEGIN:STANDARD
TZOFFSETFROM:+0000
TZOFFSETTO:+0000
TZNAME:UTC
DTSTART:20240101T000000
END:STANDARD
END:VTIMEZONE
BEGIN:VEVENT
DTSTART;TZID=UTC:20250731T120000
DTEND;TZID=UTC:20250731T130000
DTSTAMP:20260424T144316
CREATED:20250623T152455Z
LAST-MODIFIED:20250723T092530Z
UID:1349-1753963200-1753966800@www.salfordinnovationforum.co.uk
SUMMARY:Stronger Together Networking July Event
DESCRIPTION:Join fellow local entrepreneurs\, startups\, and innovative businesses for “Stronger Together” at the Salford Innovation Forum. It’s a relaxed\, friendly lunchtime event aimed at bringing businesses together\, sparking collaboration\, and supporting Salford’s growing business community. \nThursday\, June 26th -12pm until 1pm \nSalford Innovation Forum
URL:https://www.salfordinnovationforum.co.uk/event/stronger-together-networking-june-event-2/
LOCATION:Salford Innovation Forum\, 51 Frederick Road\, Salford\, Greater Manchester\, GB\, M6 6FP\, Salford\, Greater Manchester\, M6 6FP\, United Kingdom
ATTACH;FMTTYPE=image/png:https://www.salfordinnovationforum.co.uk/wp-content/uploads/2025/05/generic-event-bright-banner.png
END:VEVENT
END:VCALENDAR