BEGIN:VCALENDAR
VERSION:2.0
PRODID:-//Salford Innovation Forum - ECPv6.15.20//NONSGML v1.0//EN
CALSCALE:GREGORIAN
METHOD:PUBLISH
X-WR-CALNAME:Salford Innovation Forum
X-ORIGINAL-URL:https://www.salfordinnovationforum.co.uk
X-WR-CALDESC:Events for Salford Innovation Forum
REFRESH-INTERVAL;VALUE=DURATION:PT1H
X-Robots-Tag:noindex
X-PUBLISHED-TTL:PT1H
BEGIN:VTIMEZONE
TZID:UTC
BEGIN:STANDARD
TZOFFSETFROM:+0000
TZOFFSETTO:+0000
TZNAME:UTC
DTSTART:20230101T000000
END:STANDARD
END:VTIMEZONE
BEGIN:VEVENT
DTSTART;TZID=UTC:20241113T100000
DTEND;TZID=UTC:20241113T150000
DTSTAMP:20260425T030920
CREATED:20241105T150151Z
LAST-MODIFIED:20241105T150151Z
UID:975-1731492000-1731510000@www.salfordinnovationforum.co.uk
SUMMARY:Masterclass: Design Thinking and Creative Problem Solving in Business
DESCRIPTION:Discover the magic of design thinking! In this dynamic session\, we’ll ignite your problem-solving superpowers. We’ll focus on fostering a user-centered approach to innovation\, encouraging you to think differently about solving problems in your business. \nHere’s what’s in store…\nPart 1: Getting started: \n\nDesign thinking and its importance in innovation.\nExplanation of the five stages of design thinking: Empathise\, Define\, Ideate\, Prototype\, and Test.\n\nPart 2: Empathise and Define: \n\nEmpathise: What makes your customers tick? Put yourselves in their shoes to understand their needs\, pains\, and gains.\nDefine: What are the core problems your customers face? We’ll craft problem statements that are user-centered and actionable.\n\nPart 3: Ideate and Prototype: \n\nIdeate: What are your solutions to your customers’ problems? We’ll use creative techniques (such as mind mapping and SCAMPER) to generate a wide range of solutions to the defined problems.\nPrototype: Let’s take one or two promising ideas and build simple\, low-fidelity solution and/or prototypes – let your creativity flow!\n\nPart 4: Test and Feedback: \n\nWhy feedback and iteration in the design thinking process is so important.\nIt’s show and tell time! You’ll present your solution and/or prototype to the group. As a team\, we’ll explore how well your solution addresses your customers challenges and give you invaluable feedback.\n\nAt the end of the masterclass\, you’ll be able to put design thinking at the heart of your product and/or service development process. Your customers will love you putting them at the heart of your business.
URL:https://www.salfordinnovationforum.co.uk/event/masterclass-design-thinking-and-creative-problem-solving-in-business/
LOCATION:Octagon Theatre\, Octagon Theater\, Bolton\, BL1 1SB\, United Kingdom
ATTACH;FMTTYPE=image/png:https://www.salfordinnovationforum.co.uk/wp-content/uploads/2024/11/Wellsprings-Wbsite-Event-Asset.png
END:VEVENT
END:VCALENDAR